BEGIN:VCALENDAR
VERSION:2.0
PRODID: -//CMS 5.0 //NONSGML //DE
BEGIN:VEVENT
SUMMARY:Jugendgottesdienst
DESCRIPTION:<p>Der Jugendgottesdienst findet in der Kirche Haßmersheim 
 statt.</p>\n
UID:19682@www.nak-heidelberg.de
LOCATION:Haßmersheim
CATEGORIES:Bezirk (und alle Gemeinden),Haßmersheim,Gottesdienst,Jugend
X-ORGANIZER:
STATUS:CONFIRMED
CLASS:PUBLIC
DTSTART:20260426T083000Z
DTEND:20260426T083000Z
DTSTAMP:20260419T134936Z
CREATED:20160517T164927Z
LAST-MODIFIED:20260323T135250Z
END:VEVENT
BEGIN:VEVENT
SUMMARY:Gottesdienst
DESCRIPTION:<p>Der Gottesdienst für die Gemeinden Schriesheim und Wilhe
 lmsfeld findet in der Kirche Schriesheim statt.</p>\n
UID:19683@www.nak-heidelberg.de
LOCATION:Schriesheim
CATEGORIES:Gottesdienst,Wilhelmsfeld,Schriesheim
X-ORGANIZER:
STATUS:CONFIRMED
CLASS:PUBLIC
DTSTART:20260422T180000Z
DTEND:20260422T180000Z
DTSTAMP:20260419T134936Z
CREATED:20160517T165142Z
LAST-MODIFIED:20260323T144247Z
END:VEVENT
BEGIN:VEVENT
SUMMARY:Gottesdienst
DESCRIPTION:
UID:19685@www.nak-heidelberg.de
LOCATION:
CATEGORIES:Gottesdienst,Neckarsteinach-Darsberg,Heidelberg-Wieblingen
X-ORGANIZER:
STATUS:CONFIRMED
CLASS:PUBLIC
DTSTART:20260319T190000Z
DTEND:20260319T190000Z
DTSTAMP:20260419T134936Z
CREATED:20160517T165309Z
LAST-MODIFIED:20260224T151520Z
END:VEVENT
BEGIN:VEVENT
SUMMARY:Gottesdienst mit Konfirmation
DESCRIPTION:<p>&nbsp;</p>\n\n<p>&nbsp;</p>\n
UID:19711@www.nak-heidelberg.de
LOCATION:
CATEGORIES:Eschelbronn,Gottesdienst,Haßmersheim,Michelstadt im Odenwald
X-ORGANIZER:
STATUS:CONFIRMED
CLASS:PUBLIC
DTSTART:20260419T073000Z
DTEND:20260419T073000Z
DTSTAMP:20260419T134936Z
CREATED:20160517T174056Z
LAST-MODIFIED:20260323T134226Z
END:VEVENT
BEGIN:VEVENT
SUMMARY:Gottesdienst zu Palmsonntag
DESCRIPTION:
UID:19715@www.nak-heidelberg.de
LOCATION:
CATEGORIES:Heidelberg-Wieblingen,Neckarbischofsheim,Schriesheim,Mosbach,Buchen,Wilhelmsfeld,Eschelbronn,Bammental,Sinsheim,Wiesloch,Heidelberg-Rohrbach,Neckarsteinach-Darsberg,Heidelberg,Neckargemünd-Mückenloch,Michelstadt im Odenwald,Bezirk (ohne Gemeinden),Haßmersheim,Gottesdienst,Eberbach
X-ORGANIZER:
STATUS:CONFIRMED
CLASS:PUBLIC
DTSTART:20260329T073000Z
DTEND:20260329T073000Z
DTSTAMP:20260419T134936Z
CREATED:20160517T174927Z
LAST-MODIFIED:20260224T152213Z
END:VEVENT
BEGIN:VEVENT
SUMMARY:Gottesdienst
DESCRIPTION:
UID:56329@www.nak-heidelberg.de
LOCATION:
CATEGORIES:Neckargemünd-Mückenloch,Gottesdienst,Bezirk (ohne Gemeinden),Buchen,Neckarbischofsheim,Wiesloch,Sinsheim,Bammental,Eschelbronn
X-ORGANIZER:
STATUS:CONFIRMED
CLASS:PUBLIC
DTSTART:20260325T190000Z
DTEND:20260325T190000Z
DTSTAMP:20260419T134936Z
CREATED:20160711T141055Z
LAST-MODIFIED:20260224T151743Z
END:VEVENT
BEGIN:VEVENT
SUMMARY:Gottesdienst mit Übersetzung in die vietnamesischer Sprache
DESCRIPTION:<p>Der Gottesdienst in der Gemeinde Wiesloch wird in die vie
 tnamesische Sprache übersetzt.</p>\n
UID:66568@www.nak-heidelberg.de
LOCATION:Wiesloch
CATEGORIES:Gottesdienst,Bezirk (ohne Gemeinden),Wiesloch
X-ORGANIZER:
STATUS:CONFIRMED
CLASS:PUBLIC
DTSTART:20260419T073000Z
DTEND:20260419T073000Z
DTSTAMP:20260419T134936Z
CREATED:20160917T150842Z
LAST-MODIFIED:20260323T134848Z
END:VEVENT
BEGIN:VEVENT
SUMMARY:Gottesdienst mit Konfirmation
DESCRIPTION:
UID:75402@www.nak-heidelberg.de
LOCATION:Buchen
CATEGORIES:Gottesdienst,Buchen
X-ORGANIZER:
STATUS:CONFIRMED
CLASS:PUBLIC
DTSTART:20260412T073000Z
DTEND:20260412T073000Z
DTSTAMP:20260419T134936Z
CREATED:20161111T133836Z
LAST-MODIFIED:20260323T134100Z
END:VEVENT
BEGIN:VEVENT
SUMMARY:Gottesdienst
DESCRIPTION:
UID:83460@www.nak-heidelberg.de
LOCATION:
CATEGORIES:Gottesdienst,Bezirk (ohne Gemeinden),Neckargemünd-Mückenloch,Eschelbronn,Bammental,Wiesloch,Sinsheim,Buchen,Neckarbischofsheim
X-ORGANIZER:
STATUS:CONFIRMED
CLASS:PUBLIC
DTSTART:20260429T180000Z
DTEND:20260429T180000Z
DTSTAMP:20260419T134936Z
CREATED:20170111T182953Z
LAST-MODIFIED:20260323T145121Z
END:VEVENT
BEGIN:VEVENT
SUMMARY:Blechbläserensembleprobe
DESCRIPTION:<p>Das Blechbläserensemble probt in der Kirche Heidelberg-W
 erderstraße.</p>\n
UID:103910@www.nak-heidelberg.de
LOCATION:Heidelberg-Werderstraße
CATEGORIES:Musik,Heidelberg,Bezirk (und alle Gemeinden)
X-ORGANIZER:
STATUS:CONFIRMED
CLASS:PUBLIC
DTSTART:20260427T173000Z
DTEND:20260427T173000Z
DTSTAMP:20260419T134936Z
CREATED:20170616T184925Z
LAST-MODIFIED:20260323T135515Z
END:VEVENT
BEGIN:VEVENT
SUMMARY:Jugendchorprobe
DESCRIPTION:<p>Der Jugendchor probt in der Kirche Heidelberg-Werderstra
 ße.</p>\n
UID:112391@www.nak-heidelberg.de
LOCATION:Heidelberg-Werderstraße
CATEGORIES:Musik,Bezirk (und alle Gemeinden),Jugend,Heidelberg
X-ORGANIZER:
STATUS:CONFIRMED
CLASS:PUBLIC
DTSTART:20260424T180000Z
DTEND:20260424T180000Z
DTSTAMP:20260419T134936Z
CREATED:20171101T183443Z
LAST-MODIFIED:20260327T091900Z
END:VEVENT
BEGIN:VEVENT
SUMMARY:kidsAktiv
DESCRIPTION:<p>Die Kinder besuchen das Carl Bosch-Museum</p>\n\n<p>- Anm
 eldung erforderlich -</p>\n
UID:128409@www.nak-heidelberg.de
LOCATION:Heidelberg
CATEGORIES:Kinder,Bezirk (und alle Gemeinden)
X-ORGANIZER:
STATUS:CONFIRMED
CLASS:PUBLIC
DTSTART:20260330T120000Z
DTEND:20260330T120000Z
DTSTAMP:20260419T134936Z
CREATED:20180219T111557Z
LAST-MODIFIED:20260224T145407Z
END:VEVENT
BEGIN:VEVENT
SUMMARY:Gottesdienst mit Bischof Vester
DESCRIPTION:<p>Bischof Jörg Vester feiert den Gottesdienst mit der Geme
 inde Neckarsteinach-Darsberg.</p>\n
UID:152013@www.nak-heidelberg.de
LOCATION:Neckarsteinach-Darsberg
CATEGORIES:Bezirk (ohne Gemeinden),Gottesdienst,Neckarsteinach-Darsberg
X-ORGANIZER:
STATUS:CONFIRMED
CLASS:PUBLIC
DTSTART:20260409T180000Z
DTEND:20260409T180000Z
DTSTAMP:20260419T134936Z
CREATED:20180818T202539Z
LAST-MODIFIED:20260323T133014Z
END:VEVENT
BEGIN:VEVENT
SUMMARY:Religionsunterricht
DESCRIPTION:<p>Der Religionsunterricht findet in der Kirche Wiesloch sta
 tt.</p>\n
UID:154933@www.nak-heidelberg.de
LOCATION:Wiesloch
CATEGORIES:Neckargemünd-Mückenloch,Bezirk (ohne Gemeinden),Kinder,Heidelberg-Wieblingen,Bammental,Wiesloch,Heidelberg-Rohrbach
X-ORGANIZER:
STATUS:CONFIRMED
CLASS:PUBLIC
DTSTART:20260418T080000Z
DTEND:20260418T080000Z
DTSTAMP:20260419T134936Z
CREATED:20180924T143456Z
LAST-MODIFIED:20260323T134729Z
END:VEVENT
BEGIN:VEVENT
SUMMARY:Gottesdienst mit Konfirmation mit Bezirksapostelhelfer Rheinberg
 er
DESCRIPTION:<p>Bezirksapostelhelfer Martin Rheinberger feiert den Gottes
 dienst mit Konfirmation in der Kirche Wiesloch</p>\n
UID:156175@www.nak-heidelberg.de
LOCATION:Wiesloch
CATEGORIES:Bezirk (ohne Gemeinden),Gottesdienst,Wiesloch
X-ORGANIZER:
STATUS:CONFIRMED
CLASS:PUBLIC
DTSTART:20260412T073000Z
DTEND:20260412T073000Z
DTSTAMP:20260419T134936Z
CREATED:20181002T124535Z
LAST-MODIFIED:20260323T134025Z
END:VEVENT
BEGIN:VEVENT
SUMMARY:Gottesdienst zu Ostern mit Bezirksapostel Ehrich
DESCRIPTION:<p>Bezirksapostel Michael Ehrich feiert den Gottesdienst in 
 Kempten. Der Gottesdienst wird in die Kirchen Bammental, Buchen, Eberba
 ch, Eschelbronn, Haßmersheim, Heidelberg-Werderstraße, Heidelberg-Wie
 blingen, Michelstadt, Mosbach, Neckargemünd-Mückenloch, Neckarsteinac
 h-Darsberg, Neckarbischofsheim, Schriesheim, Sinsheim, Wiesloch und Wil
 helmsfeld live übertragen.</p>\n
UID:156176@www.nak-heidelberg.de
LOCATION:Kempten
CATEGORIES:Gottesdienst,Bezirk (und alle Gemeinden)
X-ORGANIZER:
STATUS:CONFIRMED
CLASS:PUBLIC
DTSTART:20260405T080000Z
DTEND:20260405T080000Z
DTSTAMP:20260419T134936Z
CREATED:20181002T125411Z
LAST-MODIFIED:20260323T133432Z
END:VEVENT
BEGIN:VEVENT
SUMMARY:Gottesdienst
DESCRIPTION:<p>Der Gottesdienst für die Gemeinden Schriesheim und Wilhe
 lmsfeld findet in der Kirche Schriesheim statt.</p>\n
UID:162959@www.nak-heidelberg.de
LOCATION:Schriesheim
CATEGORIES:Wilhelmsfeld,Schriesheim,Gottesdienst
X-ORGANIZER:
STATUS:CONFIRMED
CLASS:PUBLIC
DTSTART:20260415T180000Z
DTEND:20260415T180000Z
DTSTAMP:20260419T134936Z
CREATED:20181221T145716Z
LAST-MODIFIED:20260323T142634Z
END:VEVENT
BEGIN:VEVENT
SUMMARY:Gottesdienst
DESCRIPTION:
UID:162961@www.nak-heidelberg.de
LOCATION:
CATEGORIES:Gottesdienst,Neckarsteinach-Darsberg,Heidelberg-Wieblingen
X-ORGANIZER:
STATUS:CONFIRMED
CLASS:PUBLIC
DTSTART:20260423T180000Z
DTEND:20260423T180000Z
DTSTAMP:20260419T134936Z
CREATED:20181221T150812Z
LAST-MODIFIED:20260323T144309Z
END:VEVENT
BEGIN:VEVENT
SUMMARY:Gottesdienst
DESCRIPTION:
UID:165080@www.nak-heidelberg.de
LOCATION:
CATEGORIES:Neckarbischofsheim,Schriesheim,Heidelberg-Wieblingen,Wilhelmsfeld,Mosbach,Bammental,Sinsheim,Eschelbronn,Heidelberg-Rohrbach,Neckarsteinach-Darsberg,Heidelberg,Neckargemünd-Mückenloch,Michelstadt im Odenwald,Bezirk (ohne Gemeinden),Haßmersheim,Gottesdienst,Eberbach
X-ORGANIZER:
STATUS:CONFIRMED
CLASS:PUBLIC
DTSTART:20260412T073000Z
DTEND:20260412T073000Z
DTSTAMP:20260419T134936Z
CREATED:20190122T142346Z
LAST-MODIFIED:20260323T141837Z
END:VEVENT
BEGIN:VEVENT
SUMMARY:Gottesdienst
DESCRIPTION:<p>Der Gottesdienst für die Gemeinden Schriesheim und Wilhe
 lmsfeld findet in der Kirche Schriesheim statt.</p>\n
UID:167699@www.nak-heidelberg.de
LOCATION:Schriesheim
CATEGORIES:Gottesdienst,Wilhelmsfeld,Schriesheim
X-ORGANIZER:
STATUS:CONFIRMED
CLASS:PUBLIC
DTSTART:20260408T180000Z
DTEND:20260408T180000Z
DTSTAMP:20260419T134936Z
CREATED:20190221T151109Z
LAST-MODIFIED:20260323T141553Z
END:VEVENT
BEGIN:VEVENT
SUMMARY:Gottesdienst 
DESCRIPTION:
UID:167701@www.nak-heidelberg.de
LOCATION:
CATEGORIES:Gottesdienst,Bezirk (ohne Gemeinden),Neckargemünd-Mückenloch,Heidelberg,Heidelberg-Rohrbach,Bammental,Sinsheim,Wilhelmsfeld,Heidelberg-Wieblingen,Schriesheim,Neckarbischofsheim
X-ORGANIZER:
STATUS:CONFIRMED
CLASS:PUBLIC
DTSTART:20260419T073000Z
DTEND:20260419T073000Z
DTSTAMP:20260419T134936Z
CREATED:20190221T155440Z
LAST-MODIFIED:20260323T150606Z
END:VEVENT
BEGIN:VEVENT
SUMMARY:Trauergesprächskreis
DESCRIPTION:<p>Der Trauergesprächskreis findet in der Kirche Wiesloch s
 tatt.</p>\n
UID:169424@www.nak-heidelberg.de
LOCATION:Wiesloch
CATEGORIES:Bezirk (und alle Gemeinden),Wiesloch
X-ORGANIZER:
STATUS:CONFIRMED
CLASS:PUBLIC
DTSTART:20260320T163000Z
DTEND:20260320T163000Z
DTSTAMP:20260419T134936Z
CREATED:20190312T153930Z
LAST-MODIFIED:20260224T141657Z
END:VEVENT
BEGIN:VEVENT
SUMMARY:Musik für die Kleinsten
DESCRIPTION:<p>Die Musikzwerge musizieren in der Kirche Bammental.</p>\n
UID:178837@www.nak-heidelberg.de
LOCATION:Bammental
CATEGORIES:Bezirk (und alle Gemeinden),Kinder,Musik,Bammental
X-ORGANIZER:
STATUS:CONFIRMED
CLASS:PUBLIC
DTSTART:20260330T080000Z
DTEND:20260330T080000Z
DTSTAMP:20260419T134936Z
CREATED:20190709T123455Z
LAST-MODIFIED:20260224T150539Z
END:VEVENT
BEGIN:VEVENT
SUMMARY:Gottesdienst
DESCRIPTION:<p>Der Gottesdienst für die Gemeinden Haßmersheim und Mosb
 ach findet in der Kirche Haßmersheim statt.</p>\n
UID:179490@www.nak-heidelberg.de
LOCATION:Haßmersheim
CATEGORIES:Haßmersheim,Gottesdienst,Mosbach
X-ORGANIZER:
STATUS:CONFIRMED
CLASS:PUBLIC
DTSTART:20260429T180000Z
DTEND:20260429T180000Z
DTSTAMP:20260419T134936Z
CREATED:20190723T125746Z
LAST-MODIFIED:20260323T144804Z
END:VEVENT
BEGIN:VEVENT
SUMMARY:Gottesdienst zu Karfreitag
DESCRIPTION:
UID:179493@www.nak-heidelberg.de
LOCATION:
CATEGORIES:Mosbach,Buchen,Wilhelmsfeld,Heidelberg-Wieblingen,Neckarbischofsheim,Schriesheim,Heidelberg-Rohrbach,Eschelbronn,Sinsheim,Wiesloch,Michelstadt im Odenwald,Heidelberg,Gottesdienst,Haßmersheim,Eberbach,Bezirk (ohne Gemeinden)
X-ORGANIZER:
STATUS:CONFIRMED
CLASS:PUBLIC
DTSTART:20260403T073000Z
DTEND:20260403T073000Z
DTSTAMP:20260419T134936Z
CREATED:20190723T130125Z
LAST-MODIFIED:20260323T132510Z
END:VEVENT
BEGIN:VEVENT
SUMMARY:Gottesdienst mit Bischof Vester
DESCRIPTION:<p>Bischof Jörg Vester feiert den Gottesdienst mit den Geme
 inden Bammental, Eschelbronn, Neckarbischofsheim und Sinsheim in der Ki
 rche Sinsheim.</p>\n
UID:187287@www.nak-heidelberg.de
LOCATION:Sinsheim
CATEGORIES:Gottesdienst,Bezirk (ohne Gemeinden),Neckarbischofsheim,Bammental,Sinsheim,Eschelbronn
X-ORGANIZER:
STATUS:CONFIRMED
CLASS:PUBLIC
DTSTART:20260422T180000Z
DTEND:20260422T180000Z
DTSTAMP:20260419T134936Z
CREATED:20191018T174905Z
LAST-MODIFIED:20260323T135058Z
END:VEVENT
BEGIN:VEVENT
SUMMARY:Gottesdienst
DESCRIPTION:<p>Der Gottesdienst für die Gemeinden Haßmersheim und Mosb
 ach findet in der Kirche Mosbach statt.</p>\n
UID:193912@www.nak-heidelberg.de
LOCATION:Mosbach
CATEGORIES:Mosbach,Gottesdienst,Haßmersheim
X-ORGANIZER:
STATUS:CONFIRMED
CLASS:PUBLIC
DTSTART:20260408T180000Z
DTEND:20260408T180000Z
DTSTAMP:20260419T134936Z
CREATED:20191203T203700Z
LAST-MODIFIED:20260323T141644Z
END:VEVENT
BEGIN:VEVENT
SUMMARY:Gottesdienst
DESCRIPTION:<p>Der Gottesdienst für die Gemeinden Haßmersheim und Mosb
 ach findet in der Kirche Mosbach statt.</p>\n
UID:194410@www.nak-heidelberg.de
LOCATION:Mosbach
CATEGORIES:Mosbach,Haßmersheim,Gottesdienst
X-ORGANIZER:
STATUS:CONFIRMED
CLASS:PUBLIC
DTSTART:20260422T180000Z
DTEND:20260422T180000Z
DTSTAMP:20260419T134936Z
CREATED:20191217T105144Z
LAST-MODIFIED:20260323T144342Z
END:VEVENT
BEGIN:VEVENT
SUMMARY:60+aktiv
DESCRIPTION:<p>Die 60+Aktiven treffen sich auf dem Königstuhl zur Wande
 rung und zum Besuch des Hauses der Astronomie</p>\n\n<p>- Anmeldung erf
 orderlich -</p>\n
UID:194557@www.nak-heidelberg.de
LOCATION:Heidelberg-Königstuhl
CATEGORIES:Senioren,Bezirk (und alle Gemeinden)
X-ORGANIZER:
STATUS:CONFIRMED
CLASS:PUBLIC
DTSTART:20260409T083000Z
DTEND:20260409T083000Z
DTSTAMP:20260419T134936Z
CREATED:20191219T142512Z
LAST-MODIFIED:20260331T172427Z
END:VEVENT
BEGIN:VEVENT
SUMMARY:Gottesdienst
DESCRIPTION:<p>Der Gottesdienst für die Gemeinden Eberbach und Neckarst
 einach-Darsberg findet in der Kirche Eberbach statt.</p>\n
UID:196556@www.nak-heidelberg.de
LOCATION:Eberbach
CATEGORIES:Neckarsteinach-Darsberg,Eberbach,Gottesdienst
X-ORGANIZER:
STATUS:CONFIRMED
CLASS:PUBLIC
DTSTART:20260419T073000Z
DTEND:20260419T073000Z
DTSTAMP:20260419T134936Z
CREATED:20200115T114045Z
LAST-MODIFIED:20260323T150442Z
END:VEVENT
BEGIN:VEVENT
SUMMARY:Gottesdienst
DESCRIPTION:
UID:206210@www.nak-heidelberg.de
LOCATION:
CATEGORIES:Buchen,Neckarbischofsheim,Eschelbronn,Sinsheim,Wiesloch,Gottesdienst,Bezirk (ohne Gemeinden)
X-ORGANIZER:
STATUS:CONFIRMED
CLASS:PUBLIC
DTSTART:20260408T180000Z
DTEND:20260408T180000Z
DTSTAMP:20260419T134936Z
CREATED:20200523T110933Z
LAST-MODIFIED:20260323T141454Z
END:VEVENT
BEGIN:VEVENT
SUMMARY:Gottesdienst
DESCRIPTION:
UID:206211@www.nak-heidelberg.de
LOCATION:
CATEGORIES:Neckarsteinach-Darsberg,Heidelberg-Wieblingen,Gottesdienst
X-ORGANIZER:
STATUS:CONFIRMED
CLASS:PUBLIC
DTSTART:20260416T180000Z
DTEND:20260416T180000Z
DTSTAMP:20260419T134936Z
CREATED:20200523T111003Z
LAST-MODIFIED:20260323T142613Z
END:VEVENT
BEGIN:VEVENT
SUMMARY:Gottesdienst
DESCRIPTION:
UID:206213@www.nak-heidelberg.de
LOCATION:
CATEGORIES:Bezirk (ohne Gemeinden),Eberbach,Haßmersheim,Gottesdienst,Heidelberg,Neckargemünd-Mückenloch,Michelstadt im Odenwald,Eschelbronn,Bammental,Wiesloch,Sinsheim,Heidelberg-Rohrbach,Neckarsteinach-Darsberg,Heidelberg-Wieblingen,Neckarbischofsheim,Schriesheim,Mosbach,Buchen,Wilhelmsfeld
X-ORGANIZER:
STATUS:CONFIRMED
CLASS:PUBLIC
DTSTART:20260322T083000Z
DTEND:20260322T083000Z
DTSTAMP:20260419T134936Z
CREATED:20200523T111059Z
LAST-MODIFIED:20260224T151643Z
END:VEVENT
BEGIN:VEVENT
SUMMARY:Gottesdienst
DESCRIPTION:<p>Der Gottesdienst für die Gemeinden Haßmersheim und Mosb
 ach findet in der Kirche Haßmersheim statt.</p>\n
UID:207578@www.nak-heidelberg.de
LOCATION:Haßmersheim
CATEGORIES:Haßmersheim,Gottesdienst,Mosbach
X-ORGANIZER:
STATUS:CONFIRMED
CLASS:PUBLIC
DTSTART:20260325T190000Z
DTEND:20260325T190000Z
DTSTAMP:20260419T134936Z
CREATED:20200626T115632Z
LAST-MODIFIED:20260224T151938Z
END:VEVENT
BEGIN:VEVENT
SUMMARY:Gottesdienst
DESCRIPTION:
UID:208847@www.nak-heidelberg.de
LOCATION:
CATEGORIES:Gottesdienst,Heidelberg-Wieblingen,Neckarsteinach-Darsberg
X-ORGANIZER:
STATUS:CONFIRMED
CLASS:PUBLIC
DTSTART:20260326T190000Z
DTEND:20260326T190000Z
DTSTAMP:20260419T134936Z
CREATED:20200728T160012Z
LAST-MODIFIED:20260224T152027Z
END:VEVENT
BEGIN:VEVENT
SUMMARY:Gottesdienst 
DESCRIPTION:
UID:208853@www.nak-heidelberg.de
LOCATION:
CATEGORIES:Wiesloch,Buchen,Gottesdienst,Bezirk (ohne Gemeinden),Neckargemünd-Mückenloch
X-ORGANIZER:
STATUS:CONFIRMED
CLASS:PUBLIC
DTSTART:20260422T180000Z
DTEND:20260422T180000Z
DTSTAMP:20260419T134936Z
CREATED:20200728T161435Z
LAST-MODIFIED:20260323T144042Z
END:VEVENT
BEGIN:VEVENT
SUMMARY:Gottesdienst
DESCRIPTION:<p>Der Gottesdienst für die Gemeinden Eberbach und Michelst
 adt findet in der Kirche Eberbach statt.</p>\n
UID:208855@www.nak-heidelberg.de
LOCATION:Eberbach
CATEGORIES:Eberbach,Gottesdienst,Michelstadt im Odenwald
X-ORGANIZER:
STATUS:CONFIRMED
CLASS:PUBLIC
DTSTART:20260415T180000Z
DTEND:20260415T180000Z
DTSTAMP:20260419T134936Z
CREATED:20200728T161658Z
LAST-MODIFIED:20260323T173433Z
END:VEVENT
BEGIN:VEVENT
SUMMARY:Gottesdienst mit Apostel Habich
DESCRIPTION:<p>Apostel Daniel Habich feiert den Gottesdienst mit den Gem
 einden Heidelberg-Rohrbach und Heidelberg-Werderstraße in der Kirche H
 eidelberg-Rohrbach.</p>\n
UID:208860@www.nak-heidelberg.de
LOCATION:Heidelberg-Rohrbach
CATEGORIES:Heidelberg-Rohrbach,Heidelberg,Gottesdienst,Bezirk (ohne Gemeinden)
X-ORGANIZER:
STATUS:CONFIRMED
CLASS:PUBLIC
DTSTART:20260429T180000Z
DTEND:20260429T180000Z
DTSTAMP:20260419T134936Z
CREATED:20200728T162241Z
LAST-MODIFIED:20260323T135644Z
END:VEVENT
BEGIN:VEVENT
SUMMARY:Gottesdienst
DESCRIPTION:<p>Der Gottesdienst für die Gemeinden Haßmersheim und Mosb
 ach findet in der Kirche Mosbach.</p>\n
UID:208864@www.nak-heidelberg.de
LOCATION:Mosbach
CATEGORIES:Mosbach,Gottesdienst,Haßmersheim
X-ORGANIZER:
STATUS:CONFIRMED
CLASS:PUBLIC
DTSTART:20260426T073000Z
DTEND:20260426T073000Z
DTSTAMP:20260419T134936Z
CREATED:20200728T162736Z
LAST-MODIFIED:20260323T144532Z
END:VEVENT
BEGIN:VEVENT
SUMMARY:Gottesdienst
DESCRIPTION:
UID:208865@www.nak-heidelberg.de
LOCATION:
CATEGORIES:Eschelbronn,Sinsheim,Wiesloch,Bammental,Neckarbischofsheim,Buchen,Bezirk (ohne Gemeinden),Gottesdienst,Neckargemünd-Mückenloch
X-ORGANIZER:
STATUS:CONFIRMED
CLASS:PUBLIC
DTSTART:20260415T180000Z
DTEND:20260415T180000Z
DTSTAMP:20260419T134936Z
CREATED:20200728T163052Z
LAST-MODIFIED:20260323T173546Z
END:VEVENT
BEGIN:VEVENT
SUMMARY:Gottesdienst 
DESCRIPTION:
UID:208872@www.nak-heidelberg.de
LOCATION:
CATEGORIES:Wilhelmsfeld,Buchen,Neckarbischofsheim,Schriesheim,Heidelberg-Wieblingen,Heidelberg-Rohrbach,Neckarsteinach-Darsberg,Bammental,Sinsheim,Wiesloch,Eschelbronn,Michelstadt im Odenwald,Neckargemünd-Mückenloch,Heidelberg,Eberbach,Gottesdienst,Bezirk (ohne Gemeinden)
X-ORGANIZER:
STATUS:CONFIRMED
CLASS:PUBLIC
DTSTART:20260426T073000Z
DTEND:20260426T073000Z
DTSTAMP:20260419T134936Z
CREATED:20200728T163747Z
LAST-MODIFIED:20260323T144702Z
END:VEVENT
BEGIN:VEVENT
SUMMARY:Gottesdienst
DESCRIPTION:<p>Der Gottesdienst für die Gemeinden Bammental und Neckarg
 emünd-Mückenloch findet in der Kirche Neckargemünd-Mückenloch statt
 .</p>\n
UID:210375@www.nak-heidelberg.de
LOCATION:Neckargemünd-Mückenloch
CATEGORIES:Bammental,Neckargemünd-Mückenloch,Gottesdienst
X-ORGANIZER:
STATUS:CONFIRMED
CLASS:PUBLIC
DTSTART:20260408T180000Z
DTEND:20260408T180000Z
DTSTAMP:20260419T134936Z
CREATED:20200911T152411Z
LAST-MODIFIED:20260323T141035Z
END:VEVENT
BEGIN:VEVENT
SUMMARY:Gottesdienst
DESCRIPTION:<p>Der Gottesdienst für die Gemeinden Heidelberg-Rohrbach u
 nd Heidelberg-Werderstraße findet in der Kirche Heidelberg-Werderstra
 ße statt.</p>\n\n<p>&nbsp;</p>\n
UID:211106@www.nak-heidelberg.de
LOCATION:Heidelberg-Werderstraße
CATEGORIES:Heidelberg-Rohrbach,Heidelberg,Gottesdienst
X-ORGANIZER:
STATUS:CONFIRMED
CLASS:PUBLIC
DTSTART:20260325T190000Z
DTEND:20260325T190000Z
DTSTAMP:20260419T134936Z
CREATED:20200929T170016Z
LAST-MODIFIED:20260224T151917Z
END:VEVENT
BEGIN:VEVENT
SUMMARY:Gottesdienst
DESCRIPTION:<p>Der Gottesdienst für die Gemeinden Heidelberg-Rohrbach u
 nd Heidelberg-Werderstraße findet in der Kirche Heidelberg-Werderstra
 ße statt.</p>\n
UID:212530@www.nak-heidelberg.de
LOCATION:Heidelberg-Werderstraße
CATEGORIES:Heidelberg,Gottesdienst,Heidelberg-Rohrbach
X-ORGANIZER:
STATUS:CONFIRMED
CLASS:PUBLIC
DTSTART:20260422T180000Z
DTEND:20260422T180000Z
DTSTAMP:20260419T134936Z
CREATED:20201028T163849Z
LAST-MODIFIED:20260323T144224Z
END:VEVENT
BEGIN:VEVENT
SUMMARY:Gottesdienst
DESCRIPTION:
UID:220732@www.nak-heidelberg.de
LOCATION:
CATEGORIES:Gottesdienst,Neckarsteinach-Darsberg,Heidelberg-Wieblingen
X-ORGANIZER:
STATUS:CONFIRMED
CLASS:PUBLIC
DTSTART:20260430T180000Z
DTEND:20260430T180000Z
DTSTAMP:20260419T134936Z
CREATED:20210306T194130Z
LAST-MODIFIED:20260323T144946Z
END:VEVENT
BEGIN:VEVENT
SUMMARY:Gottesdienst
DESCRIPTION:<p>Der Gottesdienst für die Gemeinden Buchen und Mosbach fi
 ndet in der Kirche Buchen statt</p>\n
UID:226983@www.nak-heidelberg.de
LOCATION:Buchen
CATEGORIES:Gottesdienst,Buchen,Mosbach
X-ORGANIZER:
STATUS:CONFIRMED
CLASS:PUBLIC
DTSTART:20260419T073000Z
DTEND:20260419T073000Z
DTSTAMP:20260419T134936Z
CREATED:20210508T082243Z
LAST-MODIFIED:20260323T143522Z
END:VEVENT
BEGIN:VEVENT
SUMMARY:Gottesdienst
DESCRIPTION:<p>Der Gottesdienst für die Gemeinden Heidelberg-Rohrbach u
 nd Heidelberg-Werderstraße findet in der Kirche Heidelberg-Werderstra
 ße statt.</p>\n\n<p>&nbsp;</p>\n
UID:227134@www.nak-heidelberg.de
LOCATION:Heidelberg-Werderstraße
CATEGORIES:Gottesdienst,Heidelberg,Heidelberg-Rohrbach
X-ORGANIZER:
STATUS:CONFIRMED
CLASS:PUBLIC
DTSTART:20260408T180000Z
DTEND:20260408T180000Z
DTSTAMP:20260419T134936Z
CREATED:20210512T074716Z
LAST-MODIFIED:20260323T141527Z
END:VEVENT
BEGIN:VEVENT
SUMMARY:Gottesdienst zu Karfreitag
DESCRIPTION:<p>Der Gottesdienst zu Karfreitag für die Gemeinden Bamment
 al, Neckargemünd-Mückenloch und Neckarsteinach-Darsberg findet in der
  Kirche Bammental statt.</p>\n
UID:228227@www.nak-heidelberg.de
LOCATION:
CATEGORIES:Bammental,Neckarsteinach-Darsberg,Neckargemünd-Mückenloch,Gottesdienst
X-ORGANIZER:
STATUS:CONFIRMED
CLASS:PUBLIC
DTSTART:20260403T073000Z
DTEND:20260403T073000Z
DTSTAMP:20260419T134936Z
CREATED:20210518T073635Z
LAST-MODIFIED:20260323T132659Z
END:VEVENT
BEGIN:VEVENT
SUMMARY:Gottesdienst 
DESCRIPTION:<p>Der Gottesdienst für die Gemeinden Heidelberg-Rohrbach u
 nd Heidelberg-Werderstraße findet in der Kirche Heidelberg-Werderstra
 ße statt.</p>\n\n<p>&nbsp;</p>\n
UID:228959@www.nak-heidelberg.de
LOCATION:Heidelberg-Werderstraße
CATEGORIES:Gottesdienst,Heidelberg,Heidelberg-Rohrbach
X-ORGANIZER:
STATUS:CONFIRMED
CLASS:PUBLIC
DTSTART:20260415T180000Z
DTEND:20260415T180000Z
DTSTAMP:20260419T134936Z
CREATED:20210527T113955Z
LAST-MODIFIED:20260323T142535Z
END:VEVENT
BEGIN:VEVENT
SUMMARY:Gottesdienst
DESCRIPTION:<p>Der Gottesdienst für die Gemeinden Eberbach und Michelst
 adt findet in der Kirche Eberbach statt.</p>\n
UID:235062@www.nak-heidelberg.de
LOCATION:Eberbach
CATEGORIES:Gottesdienst,Eberbach,Michelstadt im Odenwald
X-ORGANIZER:
STATUS:CONFIRMED
CLASS:PUBLIC
DTSTART:20260408T180000Z
DTEND:20260408T180000Z
DTSTAMP:20260419T134936Z
CREATED:20210827T114443Z
LAST-MODIFIED:20260323T141610Z
END:VEVENT
BEGIN:VEVENT
SUMMARY:Gottesdienst
DESCRIPTION:<p>Der Gottesdienst für die Gemeinden Eberbach und Michelst
 adt findet in der Kirche Eberbach statt.</p>\n
UID:235063@www.nak-heidelberg.de
LOCATION:Eberbach
CATEGORIES:Michelstadt im Odenwald,Gottesdienst,Eberbach
X-ORGANIZER:
STATUS:CONFIRMED
CLASS:PUBLIC
DTSTART:20260422T180000Z
DTEND:20260422T180000Z
DTSTAMP:20260419T134936Z
CREATED:20210827T115753Z
LAST-MODIFIED:20260323T144148Z
END:VEVENT
BEGIN:VEVENT
SUMMARY:Gottesdienst
DESCRIPTION:<p>Der Gottesdienst für die Gemeinden Eberbach und Michelst
 adt findet in der Kirche Eberbach statt.</p>\n
UID:235065@www.nak-heidelberg.de
LOCATION:Eberbach
CATEGORIES:Michelstadt im Odenwald,Gottesdienst,Eberbach
X-ORGANIZER:
STATUS:CONFIRMED
CLASS:PUBLIC
DTSTART:20260325T190000Z
DTEND:20260325T190000Z
DTSTAMP:20260419T134936Z
CREATED:20210827T120355Z
LAST-MODIFIED:20260224T152004Z
END:VEVENT
BEGIN:VEVENT
SUMMARY:Gottesdienst
DESCRIPTION:<p>Der Gottesdienst für die Gemeinden Eberbach und Michelst
 adt findet in der Kirche Eberbach statt.</p>\n
UID:235073@www.nak-heidelberg.de
LOCATION:Eberbach
CATEGORIES:Michelstadt im Odenwald,Eberbach,Gottesdienst
X-ORGANIZER:
STATUS:CONFIRMED
CLASS:PUBLIC
DTSTART:20260429T180000Z
DTEND:20260429T180000Z
DTSTAMP:20260419T134936Z
CREATED:20210827T121530Z
LAST-MODIFIED:20260323T144838Z
END:VEVENT
BEGIN:VEVENT
SUMMARY:Gottesdienst
DESCRIPTION:
UID:240646@www.nak-heidelberg.de
LOCATION:Heidelberg-Wieblingen
CATEGORIES:Heidelberg-Wieblingen,Gottesdienst
X-ORGANIZER:
STATUS:CONFIRMED
CLASS:PUBLIC
DTSTART:20260409T180000Z
DTEND:20260409T180000Z
DTSTAMP:20260419T134936Z
CREATED:20211120T091407Z
LAST-MODIFIED:20260323T141149Z
END:VEVENT
BEGIN:VEVENT
SUMMARY:Gottesdienst
DESCRIPTION:<p>Der Gottesdienst für die Gemeinden Schriesheim und Wilhe
 lmsfeld findet in der Kirche Schriesheim statt.</p>\n
UID:250908@www.nak-heidelberg.de
LOCATION:Schriesheim
CATEGORIES:Gottesdienst,Schriesheim,Wilhelmsfeld
X-ORGANIZER:
STATUS:CONFIRMED
CLASS:PUBLIC
DTSTART:20260325T190000Z
DTEND:20260325T190000Z
DTSTAMP:20260419T134936Z
CREATED:20220217T120040Z
LAST-MODIFIED:20260224T151850Z
END:VEVENT
BEGIN:VEVENT
SUMMARY:Gottesdienst
DESCRIPTION:<p>Der Gottesdienst für die Gemeinden Haßmersheim und Mosb
 ach findet in der Kirche Haßmersheim statt.</p>\n
UID:253971@www.nak-heidelberg.de
LOCATION:Haßmersheim
CATEGORIES:Haßmersheim,Gottesdienst,Mosbach
X-ORGANIZER:
STATUS:CONFIRMED
CLASS:PUBLIC
DTSTART:20260415T180000Z
DTEND:20260415T180000Z
DTSTAMP:20260419T134936Z
CREATED:20220422T083515Z
LAST-MODIFIED:20260323T173358Z
END:VEVENT
BEGIN:VEVENT
SUMMARY:Gottesdienst
DESCRIPTION:<p>Der Gottesdienst für die Gemeinden Schriesheim und Wilhe
 lmsfeld findet in der Kirche Schriesheim statt.</p>\n
UID:274911@www.nak-heidelberg.de
LOCATION:Schriesheim
CATEGORIES:Gottesdienst,Schriesheim,Wilhelmsfeld
X-ORGANIZER:
STATUS:CONFIRMED
CLASS:PUBLIC
DTSTART:20260429T180000Z
DTEND:20260429T180000Z
DTSTAMP:20260419T134936Z
CREATED:20230216T152603Z
LAST-MODIFIED:20260323T144903Z
END:VEVENT
BEGIN:VEVENT
SUMMARY:Orchesterprobe
DESCRIPTION:<p>Das Orchester des Kirchenbezirks probt in der Kirche Heid
 elberg-Werderstraße</p>\n
UID:295768@www.nak-heidelberg.de
LOCATION:Heidelberg-Werderstraße
CATEGORIES:Bezirk (und alle Gemeinden),Heidelberg,Musik
X-ORGANIZER:
STATUS:CONFIRMED
CLASS:PUBLIC
DTSTART:20260418T080000Z
DTEND:20260418T080000Z
DTSTAMP:20260419T134936Z
CREATED:20231115T140719Z
LAST-MODIFIED:20260323T171324Z
END:VEVENT
BEGIN:VEVENT
SUMMARY:Jugendgottesdienst
DESCRIPTION:<p>Der Jugendgottesdienst findet in der Kirche Ladenburg, Ba
 hnhofstr. 13 statt</p>\n
UID:300331@www.nak-heidelberg.de
LOCATION:Ladenburg
CATEGORIES:Gottesdienst,Bezirk (und alle Gemeinden),Jugend
X-ORGANIZER:
STATUS:CONFIRMED
CLASS:PUBLIC
DTSTART:20260322T093000Z
DTEND:20260322T093000Z
DTSTAMP:20260419T134936Z
CREATED:20240115T092437Z
LAST-MODIFIED:20260224T152628Z
END:VEVENT
BEGIN:VEVENT
SUMMARY:60+aktiv
DESCRIPTION:<p>Die 60+Aktiven unternehmen einen Ausflug in die Pfalz</p>
 \n\n<p>- Anmeldung erforderlich -</p>\n
UID:305529@www.nak-heidelberg.de
LOCATION:Wachenheim
CATEGORIES:Bezirk (und alle Gemeinden),Senioren
X-ORGANIZER:
STATUS:CONFIRMED
CLASS:PUBLIC
DTSTART;VALUE=DATE:20260320
DTEND;VALUE=DATE:20260321
DTSTAMP:20260419T134936Z
CREATED:20240315T144242Z
LAST-MODIFIED:20260224T141605Z
END:VEVENT
BEGIN:VEVENT
SUMMARY:Musik für die Kleinsten
DESCRIPTION:<p>Die Musikzwerge musizieren in der Kirche Bammental.</p>\n
UID:356665@www.nak-heidelberg.de
LOCATION:Bammental
CATEGORIES:Bammental,Musik,Kinder,Bezirk (und alle Gemeinden)
X-ORGANIZER:
STATUS:CONFIRMED
CLASS:PUBLIC
DTSTART:20260413T080000Z
DTEND:20260413T080000Z
DTSTAMP:20260419T134936Z
CREATED:20260108T130246Z
LAST-MODIFIED:20260323T134321Z
END:VEVENT
BEGIN:VEVENT
SUMMARY:Religions- und Konfirmandenunterricht
DESCRIPTION:<p>Der Religions- und Konfirmandenunterricht findet in der K
 irche Michelstadt statt.</p>\n
UID:359871@www.nak-heidelberg.de
LOCATION:Michelstadt
CATEGORIES:Bezirk (ohne Gemeinden),Kinder,Eberbach,Michelstadt im Odenwald,Jugend,Neckarsteinach-Darsberg
X-ORGANIZER:
STATUS:CONFIRMED
CLASS:PUBLIC
DTSTART:20260321T083000Z
DTEND:20260321T083000Z
DTSTAMP:20260419T134936Z
CREATED:20260224T141748Z
LAST-MODIFIED:20260224T144253Z
END:VEVENT
BEGIN:VEVENT
SUMMARY:Musik für die Kleinsten
DESCRIPTION:<p>Die Musikzwerge musizieren in der Kirche Bammental.</p>\n
UID:361682@www.nak-heidelberg.de
LOCATION:Bammental
CATEGORIES:Bezirk (und alle Gemeinden),Kinder,Bammental,Musik
X-ORGANIZER:
STATUS:CONFIRMED
CLASS:PUBLIC
DTSTART:20260427T080000Z
DTEND:20260427T080000Z
DTSTAMP:20260419T134936Z
CREATED:20260323T135431Z
LAST-MODIFIED:20260323T135445Z
END:VEVENT
END:VCALENDAR
